BEGIN:VCALENDAR
VERSION:2.0
PRODID:-//ASCAPH - ECPv6.15.18//NONSGML v1.0//EN
CALSCALE:GREGORIAN
METHOD:PUBLISH
X-ORIGINAL-URL:https://ascaph.com.co
X-WR-CALDESC:Eventos para ASCAPH
REFRESH-INTERVAL;VALUE=DURATION:PT1H
X-Robots-Tag:noindex
X-PUBLISHED-TTL:PT1H
BEGIN:VTIMEZONE
TZID:UTC
BEGIN:STANDARD
TZOFFSETFROM:+0000
TZOFFSETTO:+0000
TZNAME:UTC
DTSTART:20240101T000000
END:STANDARD
END:VTIMEZONE
BEGIN:VEVENT
DTSTART;TZID=UTC:20251002T140000
DTEND;TZID=UTC:20251002T170000
DTSTAMP:20260420T010951
CREATED:20250929T164319Z
LAST-MODIFIED:20250929T164700Z
UID:3469-1759413600-1759424400@ascaph.com.co
SUMMARY:Arrendamiento Turístico en la Propiedad Horizontal: Gestión Responsable para la Prevención de Delitos
DESCRIPTION:              \nLa Asociación Caldense de Administradores de Propiedad Horizontal – ASCAPH\, junto con Migración Colombia\, Cotelco y la Cámara de Comercio de Manizales\, te invita a participar en la capacitación: \nArrendamiento Turístico en la Propiedad Horizontal: Gestión Responsable para la Prevención de Delitos \n🎤 Invitado especial:Dr. Francisco Andrés MontesAbogado\, Magíster en Derecho Procesal y Constitucional\, Consultor y Selector del Sector Constructor y de Propiedad Horizontal. \n📅 Fecha: Jueves 2 de octubre de 2025🕑 Hora: 2:00 p.m.📍 Lugar: Cámara de Comercio de Manizales – Auditorio Carlos E. Pinzón \n🔹 Evento gratuito con inscripción previa.👉 Inscríbete aquí: Formulario de inscripción \nUna oportunidad para comprender el marco normativo\, los riesgos y las estrategias de prevención que garantizan una gestión segura y responsable en las copropiedades frente al arrendamiento turístico. \n 
URL:https://ascaph.com.co/event/arrendamiento-turistico-en-la-propiedad-horizontal-gestion-responsable-para-la-prevencion-de-delitos/
LOCATION:Cámara de Comercio de Manizales\, Cra. 23 #26-60\, Manizales\, Caldas\, CALDAS\, 170001\, Colombia
ORGANIZER;CN="ASCAPH":MAILTO:ascaph@gmail.com
END:VEVENT
BEGIN:VEVENT
DTSTART;TZID=UTC:20260206T080000
DTEND;TZID=UTC:20260206T110000
DTSTAMP:20260420T010951
CREATED:20260204T222129Z
LAST-MODIFIED:20260205T125658Z
UID:3495-1770364800-1770375600@ascaph.com.co
SUMMARY:PRESUPUESTOS 2026 - TALLER PRÁCTICO Y PRESENCIAL
DESCRIPTION:Taller Práctico Presencial: Presupuesto 2026 para Propiedad Horizontal \n \nEl 2026 trae retos financieros clave para la Propiedad Horizontal\, especialmente frente a los incrementos salariales y los costos asociados a servicios esenciales como vigilancia y aseo. Anticiparse y planificar con criterio técnico ya no es opcional: es una necesidad. \nEste taller práctico presencial\, organizado por ASCAPH\, está diseñado para administradores\, consejos de administración y propietarios que desean elaborar un presupuesto 2026 sólido\, realista y financieramente viable\, evitando improvisaciones y riesgos económicos. \nDurante el taller aprenderás a: \n\n\nConstruir el presupuesto 2026 paso a paso \n\n\nEvaluar la viabilidad financiera ante incrementos salariales \n\n\nRealizar una proyección responsable de costos en vigilancia y aseo \n\n\nTomar decisiones informadas que fortalezcan la estabilidad de tu copropiedad \n\n\nEl espacio será guiado por el Dr. Jorge Aranza Restrepo\, Administrador y Abogado\, especialista en Propiedad Horizontal\, quien compartirá su experiencia práctica y herramientas aplicables de forma inmediata. \n📌 Modalidad: Presencial📅 Fecha: Viernes 6 de febrero⏰ Hora: 8:00 a.m. – 11:00 a.m.📍 Lugar: Salón social Cooperativa ILC – Calle 44 #23-52 \nRegistrate aquí 👇\n\nhttps://forms.gle/MNTafipQnSB2vpv98 \nUna jornada pensada para prepararte\, actualizarte y fortalecer tu gestión administrativa\, con enfoque práctico y visión real del contexto económico actual. \n👉 ASCAPH es tu apoyo como administrador de P.H.
URL:https://ascaph.com.co/event/presupuestos-2026-taller-practico-y-presencial/
LOCATION:COOPERATIVA ILC\, CLL 44 # 23-52\, Manizales\, Caldas\, CALDAS\, 170001\, Colombia
ORGANIZER;CN="ASCAPH":MAILTO:ascaph@gmail.com
END:VEVENT
BEGIN:VEVENT
DTSTART;TZID=UTC:20260418T080000
DTEND;TZID=UTC:20260418T150000
DTSTAMP:20260420T010951
CREATED:20260325T203216Z
LAST-MODIFIED:20260325T210036Z
UID:3515-1776499200-1776524400@ascaph.com.co
SUMMARY:Foro Formativo Para Consejos de Administración Del Eje Cafetero
DESCRIPTION:📢 ¿Quieres fortalecer tu Consejo y valorizar tu copropiedad?\nEl éxito en propiedad horizontal nace cuando Administrador y Consejo conocen la Ley 675 y trabajan en armonía.\n📍 Primer Foro Formativo – Eje Cafetero 🏨\nHotel Benidorm – Calle 44 No 20-20\, Manizales\n🗓 18 de abril de 2026 | 8:00 a.m. – 3:00 p.m. 💰\nASCAPH: $50.000 Particulares: $100.000 🔥\n14 al 30 de marzo: $70.000\n👥 Descuento desde (3) consejeros de una misma copropiedad.\nIncluye certificado\, break\, memorias y asesorías. Bienvenidos administradores naturales\, delegados\, inmobiliarios\, corporativos\, industriales\, profesionales de servicios y todo el Eje Cafetero. \n🔗 Inscripción: https://forms.gle/iHNtGd2k4wZ6N6Xq8\n📲 Info: 313 819 2765\nPorque cuando el equipo aprende unido\, el patrimonio crece. 🏢✨
URL:https://ascaph.com.co/event/foro-formativo-para-consejos-de-administracion-del-eje-cafetero/
LOCATION:HOTEL BENIDORM\, Calle 44 No 20-20\, Manizales\, CALDAS\, 170001\, Colombia
CATEGORIES:FORO FORMATIVO
ORGANIZER;CN="ASCAPH":MAILTO:ascaph@gmail.com
END:VEVENT
END:VCALENDAR